BEGIN:VCALENDAR
VERSION:2.0
PRODID:-//TLCA - ECPv6.15.20//NONSGML v1.0//EN
CALSCALE:GREGORIAN
METHOD:PUBLISH
X-WR-CALNAME:TLCA
X-ORIGINAL-URL:https://tlca.org
X-WR-CALDESC:Events for TLCA
REFRESH-INTERVAL;VALUE=DURATION:PT1H
X-Robots-Tag:noindex
X-PUBLISHED-TTL:PT1H
BEGIN:VTIMEZONE
TZID:America/Denver
BEGIN:DAYLIGHT
TZOFFSETFROM:-0700
TZOFFSETTO:-0600
TZNAME:MDT
DTSTART:20240310T090000
END:DAYLIGHT
BEGIN:STANDARD
TZOFFSETFROM:-0600
TZOFFSETTO:-0700
TZNAME:MST
DTSTART:20241103T080000
END:STANDARD
BEGIN:DAYLIGHT
TZOFFSETFROM:-0700
TZOFFSETTO:-0600
TZNAME:MDT
DTSTART:20250309T090000
END:DAYLIGHT
BEGIN:STANDARD
TZOFFSETFROM:-0600
TZOFFSETTO:-0700
TZNAME:MST
DTSTART:20251102T080000
END:STANDARD
BEGIN:DAYLIGHT
TZOFFSETFROM:-0700
TZOFFSETTO:-0600
TZNAME:MDT
DTSTART:20260308T090000
END:DAYLIGHT
BEGIN:STANDARD
TZOFFSETFROM:-0600
TZOFFSETTO:-0700
TZNAME:MST
DTSTART:20261101T080000
END:STANDARD
END:VTIMEZONE
BEGIN:VEVENT
DTSTART;VALUE=DATE:20250926
DTEND;VALUE=DATE:20250929
DTSTAMP:20260421T125929
CREATED:20250916T020043Z
LAST-MODIFIED:20250916T020043Z
UID:10000017-1758844800-1759103999@tlca.org
SUMMARY:Kessler Krawl
DESCRIPTION:We are excited to invite you and host the 20th Annual Kessler Krawl on September 26-28th. This family-friendly gathering will be held at SMORR and should be a great event with trails for all skill levels. \nEvent Highlights: \n\nTrails for all skill levels:Whether you’re a beginner or an experienced drivers\, SMORR has trails for suited for every skill level. These are well marked and we will typically break off into a few groups to tour the park.\n\nMaps – SMORR – https://www.smorr.net/maps/\n\n\nFamily Friendly Atmosphere: Bring the whole family! This is a family friendly event.\nRaffle Prizes: Don’t miss your chance to win some fantastic raffle prizes.\nGroup Meal: We will be sponsoring a group meal one of the evenings\n\nEvent Details: \n\nDate: September 26-28th\nLocation: Seymour Missouri Off-Road Ranch (SMORR)\n\n5722 State Highway K\, Seymour\, MO 65746\n\n\nRegistration: Tornado Alley Cruisers\n\n  \nWe look forward to seeing you there for a weekend full of good times and great wheeling.
URL:https://tlca.org/calendar/kessler-krawl/
LOCATION:Southern Missouri Off Road Ranch\, 5722 State Highway K\, Seymour\, MO\, 65746\, United States
ATTACH;FMTTYPE=image/jpeg:https://tlca.org/wp-content/uploads/kessler-krawl.jpg
END:VEVENT
END:VCALENDAR