BEGIN:VCALENDAR
VERSION:2.0
PRODID:-//TLCA - ECPv6.15.20//NONSGML v1.0//EN
CALSCALE:GREGORIAN
METHOD:PUBLISH
X-WR-CALNAME:TLCA
X-ORIGINAL-URL:https://tlca.org
X-WR-CALDESC:Events for TLCA
REFRESH-INTERVAL;VALUE=DURATION:PT1H
X-Robots-Tag:noindex
X-PUBLISHED-TTL:PT1H
BEGIN:VTIMEZONE
TZID:America/Denver
BEGIN:DAYLIGHT
TZOFFSETFROM:-0700
TZOFFSETTO:-0600
TZNAME:MDT
DTSTART:20250309T090000
END:DAYLIGHT
BEGIN:STANDARD
TZOFFSETFROM:-0600
TZOFFSETTO:-0700
TZNAME:MST
DTSTART:20251102T080000
END:STANDARD
BEGIN:DAYLIGHT
TZOFFSETFROM:-0700
TZOFFSETTO:-0600
TZNAME:MDT
DTSTART:20260308T090000
END:DAYLIGHT
BEGIN:STANDARD
TZOFFSETFROM:-0600
TZOFFSETTO:-0700
TZNAME:MST
DTSTART:20261101T080000
END:STANDARD
BEGIN:DAYLIGHT
TZOFFSETFROM:-0700
TZOFFSETTO:-0600
TZNAME:MDT
DTSTART:20270314T090000
END:DAYLIGHT
BEGIN:STANDARD
TZOFFSETFROM:-0600
TZOFFSETTO:-0700
TZNAME:MST
DTSTART:20271107T080000
END:STANDARD
END:VTIMEZONE
BEGIN:VEVENT
DTSTART;VALUE=DATE:20260430
DTEND;VALUE=DATE:20260504
DTSTAMP:20260421T142308
CREATED:20251201T004728Z
LAST-MODIFIED:20251201T004728Z
UID:10000029-1777507200-1777852799@tlca.org
SUMMARY:Toyota Jamboree
DESCRIPTION:10th Annual Event\nHosted by: Toyota Trail Riders \nThe Lone Star Toyota Jamboree is one of the largest gatherings of Toyota off-road enthusiast and vendors held in the Texas area. Vehicles range from Land Cruisers of all types\, Tacomas\, FJ Cruisers\, 4Runners and Tundras as well as a variety of other Toyota off-road vehicles. This non-profit\, Toyota Land Cruisers Association (TLCA) sanctioned event is organized by the Toyota Trail Riders for the purpose of raising funds for Barnwell Mountain Recreation Area (BMRA) in Gilmer\, Texas and Women Rock.
URL:https://tlca.org/calendar/toyota-jamboree-2/
LOCATION:Barnwell Mountain Recreational Area\, 6284 State Hwy 155\, Gilmer\, TX\, 75644\, United States
ATTACH;FMTTYPE=image/jpeg:https://tlca.org/wp-content/uploads/jamboree-1.jpg
END:VEVENT
END:VCALENDAR