BEGIN:VCALENDAR
VERSION:2.0
PRODID:-//TLCA - ECPv6.15.20//NONSGML v1.0//EN
CALSCALE:GREGORIAN
METHOD:PUBLISH
X-WR-CALNAME:TLCA
X-ORIGINAL-URL:https://tlca.org
X-WR-CALDESC:Events for TLCA
REFRESH-INTERVAL;VALUE=DURATION:PT1H
X-Robots-Tag:noindex
X-PUBLISHED-TTL:PT1H
BEGIN:VTIMEZONE
TZID:America/Denver
BEGIN:DAYLIGHT
TZOFFSETFROM:-0700
TZOFFSETTO:-0600
TZNAME:MDT
DTSTART:20250309T090000
END:DAYLIGHT
BEGIN:STANDARD
TZOFFSETFROM:-0600
TZOFFSETTO:-0700
TZNAME:MST
DTSTART:20251102T080000
END:STANDARD
BEGIN:DAYLIGHT
TZOFFSETFROM:-0700
TZOFFSETTO:-0600
TZNAME:MDT
DTSTART:20260308T090000
END:DAYLIGHT
BEGIN:STANDARD
TZOFFSETFROM:-0600
TZOFFSETTO:-0700
TZNAME:MST
DTSTART:20261101T080000
END:STANDARD
BEGIN:DAYLIGHT
TZOFFSETFROM:-0700
TZOFFSETTO:-0600
TZNAME:MDT
DTSTART:20270314T090000
END:DAYLIGHT
BEGIN:STANDARD
TZOFFSETFROM:-0600
TZOFFSETTO:-0700
TZNAME:MST
DTSTART:20271107T080000
END:STANDARD
END:VTIMEZONE
BEGIN:VEVENT
DTSTART;VALUE=DATE:20260711
DTEND;VALUE=DATE:20260712
DTSTAMP:20260421T230721
CREATED:20251121T152520Z
LAST-MODIFIED:20251130T202336Z
UID:10000028-1783728000-1783814399@tlca.org
SUMMARY:Pacific Mountain Cruisers Swap Meet and Truck Show
DESCRIPTION:28th Annual Event\nHosted by: Pacific Mountain Cruisers \nJoin us for the Pacific Mountain Cruisers Swap Meet! Explore a treasure trove of Land Cruiser parts and gear while connecting with friends. \nDon’t miss the exciting raffle\, with proceeds benefiting #LiveLikeLash – The Live Like Lash Fund. Pacific Mountain Cruisers has proudly contributed more than $6\,000 to this meaningful scholarship\, and we’re excited to bring the TLCA community together to keep the momentum going. \nCome hang out with your friends\, grab a bite from the on-site food truck\, and take part in a raffle at noon. The event wraps up at 2 PM\, so be sure to stop by\, say hello\, and support a great cause.
URL:https://tlca.org/calendar/pacific-mountain-cruisers-swap-meet-and-truck-show-2026/
LOCATION:Holy Ghost Hall\, 4649 Bodega Ave\, Petaluma\, CA\, 94954\, United States
ATTACH;FMTTYPE=image/jpeg:https://tlca.org/wp-content/uploads/pmc-swap-featured.jpg
END:VEVENT
BEGIN:VEVENT
DTSTART;VALUE=DATE:20260715
DTEND;VALUE=DATE:20260720
DTSTAMP:20260421T230721
CREATED:20260128T143307Z
LAST-MODIFIED:20260131T021458Z
UID:10000030-1784073600-1784505599@tlca.org
SUMMARY:Black Hills Cruiser Classic
DESCRIPTION:29th Annual Event\nHosted by: Dakota Territory Cruisers \nPile the kids in the cruiser and come see Mt Rushmore at this traditional three day TLCA chapter event. Rock Crawling and scenic overlanding. All trail rides departing from the campground. Facilities include a private swimming pond with beach\, a playground and an arcade along with indoor showers and laundry facilities. \n 
URL:https://tlca.org/calendar/black-hills-cruiser-classic-2006/
LOCATION:Hidden Valley Campground\, 21423 US-385\, Deadwood\, SD\, 57732\, United States
ATTACH;FMTTYPE=image/jpeg:https://tlca.org/wp-content/uploads/little-blue-toyota.jpg
END:VEVENT
BEGIN:VEVENT
DTSTART;VALUE=DATE:20260716
DTEND;VALUE=DATE:20260720
DTSTAMP:20260421T230721
CREATED:20251111T003727Z
LAST-MODIFIED:20251111T003727Z
UID:10000027-1784160000-1784505599@tlca.org
SUMMARY:Kentucky Toyota Trail Ride
DESCRIPTION:9th Annual Event\nHosted by: Kentucky Toyota Land Cruiser Association \nThe Kentucky Toyota Trail Ride (KTTR) is Kentucky’s only TLCA event and boasts attendees from many states. The Red River Gorge area is home to some of the most diverse landscape and beautiful trails found anywhere on the east coast. With a mix of sand\, mud\, rock and boulders\, there are trails to accomodate everything from stock vehicles to purpose built crawlers.
URL:https://tlca.org/calendar/kentucky-toyota-trail-ride-2/
LOCATION:Callies Lake And Campground in Red River Gorge\, 5515 Campton Rd\, Stanton\, KY\, 40380\, United States
ATTACH;FMTTYPE=image/jpeg:https://tlca.org/wp-content/uploads/kentucky-1.jpg
END:VEVENT
END:VCALENDAR