BEGIN:VCALENDAR
VERSION:2.0
PRODID:-//TLCA - ECPv6.15.20//NONSGML v1.0//EN
CALSCALE:GREGORIAN
METHOD:PUBLISH
X-ORIGINAL-URL:https://tlca.org
X-WR-CALDESC:Events for TLCA
REFRESH-INTERVAL;VALUE=DURATION:PT1H
X-Robots-Tag:noindex
X-PUBLISHED-TTL:PT1H
BEGIN:VTIMEZONE
TZID:America/Denver
BEGIN:DAYLIGHT
TZOFFSETFROM:-0700
TZOFFSETTO:-0600
TZNAME:MDT
DTSTART:20250309T090000
END:DAYLIGHT
BEGIN:STANDARD
TZOFFSETFROM:-0600
TZOFFSETTO:-0700
TZNAME:MST
DTSTART:20251102T080000
END:STANDARD
BEGIN:DAYLIGHT
TZOFFSETFROM:-0700
TZOFFSETTO:-0600
TZNAME:MDT
DTSTART:20260308T090000
END:DAYLIGHT
BEGIN:STANDARD
TZOFFSETFROM:-0600
TZOFFSETTO:-0700
TZNAME:MST
DTSTART:20261101T080000
END:STANDARD
BEGIN:DAYLIGHT
TZOFFSETFROM:-0700
TZOFFSETTO:-0600
TZNAME:MDT
DTSTART:20270314T090000
END:DAYLIGHT
BEGIN:STANDARD
TZOFFSETFROM:-0600
TZOFFSETTO:-0700
TZNAME:MST
DTSTART:20271107T080000
END:STANDARD
END:VTIMEZONE
BEGIN:VEVENT
DTSTART;VALUE=DATE:20260604
DTEND;VALUE=DATE:20260608
DTSTAMP:20260421T180247
CREATED:20260319T001514Z
LAST-MODIFIED:20260319T001646Z
UID:10000033-1780531200-1780876799@tlca.org
SUMMARY:Razorback Ramble
DESCRIPTION:27th Annual Event\nHosted by: Razorback Land Cruisers \nThe Razorback Ramble is an annual event organized by the Razorback Land Cruisers\, the Arkansas chapter of the Toyota Land Cruiser Association. The event will take place at the Hot Springs Off-Road Vehicle Park in Hot Springs\, Arkansas. \nParticipants receive an event swag bag\, t-shirt\, meal tickets for Friday and Saturday night dinners\, and one driver raffle ticket. Upon arrival\, attendees are required to check in at the park’s office to settle any additional park dues and camping fees. The park features miles of well-marked and maintained trails suitable for both novice and experienced off-road enthusiasts. Evening gatherings at the pavilion on Friday and Saturday include meals and raffles with prizes tailored for Toyota vehicles. \nLocated near Hot Springs National Park and several lakes\, the area offers additional recreational opportunities. Limited camping and RV sites are available at the park\, with additional accommodations nearby\, including a KOA Campground and various hotels. \nThe Razorback Ramble is a Toyota-only event\, welcoming all 4WD Toyota vehicles\, including Land Cruisers\, 4Runners\, Tacomas\, and FJ Cruisers. The event aims to provide adventure\, education\, and social opportunities for members\, fostering a community based on a shared passion for Toyota 4WD vehicles. \nParticipants are encouraged to explore the scenic attractions of Hot Springs\, such as the historic downtown and Bath House Row\, during their visit. The event also emphasizes the preservation and promotion of multiple-use public lands\, aligning with the club’s goals. \nRegistration details and additional information are available on the Razorback Land Cruisers’ official website. Prospective attendees are advised to register early and review park fees and accommodation options in advance. \n 
URL:https://tlca.org/calendar/razorback-ramble-2026/
LOCATION:Hot Springs Off-Road Park\, 2100 Mill Creek Road\, Hot Springs\, AR\, 71907\, United States
ATTACH;FMTTYPE=image/jpeg:https://tlca.org/wp-content/uploads/ramble-featured.jpg
END:VEVENT
BEGIN:VEVENT
DTSTART;VALUE=DATE:20260611
DTEND;VALUE=DATE:20260614
DTSTAMP:20260421T180247
CREATED:20251102T170710Z
LAST-MODIFIED:20251102T170710Z
UID:10000021-1781136000-1781395199@tlca.org
SUMMARY:Great Smoky Mountain Trail Ride
DESCRIPTION:35th Annual Event\nHosted by: Southeast Toyota Land Cruiser Association \nThe Great Smoky Mountain Trail Ride (GSMTR) is a premier off-roading event hosted by the Southeastern Toyota Land Cruiser Association (STLCA). This multi-day adventure features guided trail rides through the stunning landscapes of the Great Smoky Mountains\, ranging from beginner-friendly routes to challenging trails for experienced drivers. Participants can enjoy camaraderie with fellow off-road enthusiasts\, a raffle with exciting prizes\, and family-friendly activities. Open to all Toyota 4x4s\, GSMTR is a must-attend event for those who love the outdoors and the Land Cruiser community. \nContact:\nDavey Jordan\n615-415-7540
URL:https://tlca.org/calendar/great-smoky-mountain-trail-ride-2026/
LOCATION:Windrock Park\, 921 Windrock Road\, Oliver Springs\, TN\, 37840\, United States
ATTACH;FMTTYPE=image/jpeg:https://tlca.org/wp-content/uploads/gsmtr.jpeg
END:VEVENT
BEGIN:VEVENT
DTSTART;VALUE=DATE:20260624
DTEND;VALUE=DATE:20260629
DTSTAMP:20260421T180247
CREATED:20251106T013005Z
LAST-MODIFIED:20251106T013005Z
UID:10000023-1782259200-1782691199@tlca.org
SUMMARY:Rubithon
DESCRIPTION:38th Annual Event\nHosted by: The Toyota Land Cruiser Association \nRubithon is an annual gathering for Toyota 4×4 vehicle owners\, offering an unforgettable off-road adventure on the iconic Rubicon Trail in the Sierra Nevada mountains. The event brings together the TLCA community for several days of trail riding\, camping\, and camaraderie in one of the most beautiful and challenging terrains in the world. Participants navigate rocky trails\, enjoy scenic views\, and test their vehicles’ capabilities while building lifelong memories and friendships. \nRubithon isn’t just about off-roading—it’s a celebration of TLCA\, complete with group activities\, shared meals\, and a welcoming atmosphere for families and individuals alike. Attendees can participate in raffles and connect with fellow enthusiasts to exchange tips\, stories\, and inspiration. \nWhether you’re a seasoned off-roader or new to the TLCA community\, Rubithon offers an exciting blend of adventure\, fellowship\, and outdoor fun.
URL:https://tlca.org/calendar/rubithon-2/
LOCATION:Rubicon Trail\, South Lake Tahoe\, CA\, 96150\, United States
ATTACH;FMTTYPE=image/jpeg:https://tlca.org/wp-content/uploads/rubithon-featured.jpg
END:VEVENT
END:VCALENDAR