BEGIN:VCALENDAR
VERSION:2.0
PRODID:-//TLCA - ECPv6.15.20//NONSGML v1.0//EN
CALSCALE:GREGORIAN
METHOD:PUBLISH
X-ORIGINAL-URL:https://tlca.org
X-WR-CALDESC:Events for TLCA
REFRESH-INTERVAL;VALUE=DURATION:PT1H
X-Robots-Tag:noindex
X-PUBLISHED-TTL:PT1H
BEGIN:VTIMEZONE
TZID:America/Denver
BEGIN:DAYLIGHT
TZOFFSETFROM:-0700
TZOFFSETTO:-0600
TZNAME:MDT
DTSTART:20240310T090000
END:DAYLIGHT
BEGIN:STANDARD
TZOFFSETFROM:-0600
TZOFFSETTO:-0700
TZNAME:MST
DTSTART:20241103T080000
END:STANDARD
BEGIN:DAYLIGHT
TZOFFSETFROM:-0700
TZOFFSETTO:-0600
TZNAME:MDT
DTSTART:20250309T090000
END:DAYLIGHT
BEGIN:STANDARD
TZOFFSETFROM:-0600
TZOFFSETTO:-0700
TZNAME:MST
DTSTART:20251102T080000
END:STANDARD
BEGIN:DAYLIGHT
TZOFFSETFROM:-0700
TZOFFSETTO:-0600
TZNAME:MDT
DTSTART:20260308T090000
END:DAYLIGHT
BEGIN:STANDARD
TZOFFSETFROM:-0600
TZOFFSETTO:-0700
TZNAME:MST
DTSTART:20261101T080000
END:STANDARD
END:VTIMEZONE
BEGIN:VEVENT
DTSTART;VALUE=DATE:20250911
DTEND;VALUE=DATE:20250915
DTSTAMP:20260422T043223
CREATED:20250102T151109Z
LAST-MODIFIED:20250102T182323Z
UID:10000007-1757548800-1757894399@tlca.org
SUMMARY:Mardi Krawl
DESCRIPTION:13th Annual Event\nHosted by: Louisiana Land Krewsers \nHosted by the Louisiana Land Krewesers\, the Annual Mardi Krawl is a favorite event. Join us at Hawk Pride Mountain ORV Park in Tuscumbia\, AL for four action-packed days of challenging trails\, coveted raffle prizes\, delicious food\, great music and tons of fun! This event is open to all 4x4s willing to get a little topsy turvy at one of the nation’s best-rated off-road parks\, with over 120 rock crawling trails over 1\,000 acres ready to accommodate 4×4 vehicles barely above stock to the most sophisticated rock buggies.
URL:https://tlca.org/calendar/mardi-krawl/
LOCATION:Hawk Pride Mountain ORV Park\, 3834 Hawk Pride Mountain Rd\, Tuscumbia\, AL\, 35674\, United States
ATTACH;FMTTYPE=image/jpeg:https://tlca.org/wp-content/uploads/51-bo9a0187-scaled.jpg
END:VEVENT
BEGIN:VEVENT
DTSTART;VALUE=DATE:20250911
DTEND;VALUE=DATE:20250915
DTSTAMP:20260422T043223
CREATED:20250102T180844Z
LAST-MODIFIED:20250102T181036Z
UID:10000006-1757548800-1757894399@tlca.org
SUMMARY:70 Series Meet & Greet / ALS Charity Ride
DESCRIPTION:10th Annual Event\nHosted by: Red Hills Land Cruiser Club \nJoin us for the ultimate Land Cruiser adventure at Windrock Park in Oliver Springs\, TN! This annual event is the largest gathering of 70 Series Land Cruisers in the United States\, bringing together enthusiasts from near and far to celebrate these iconic vehicles. \nWhile this event highlights the 70 Series\, all Land Cruisers are welcome. Whether you’re a longtime fan or a first-time attendee\, there’s something for everyone\, from trail rides and off-road challenges to meet-and-greet opportunities with fellow Land Cruiser aficionados. \nCome experience the camaraderie\, the scenery\, and the chance to showcase your Cruiser in action. It’s more than just a gathering—it’s a celebration of the Land Cruiser legacy. \nFor more information\, contact us at 78toyota@gmail.com. We can’t wait to see you there!
URL:https://tlca.org/calendar/70-series-meet-greet-als-charity-ride/
LOCATION:Windrock Park\, 921 Windrock Road\, Oliver Springs\, TN\, 37840\, United States
ATTACH;FMTTYPE=image/jpeg:https://tlca.org/wp-content/uploads/IMG_6205.jpg
END:VEVENT
BEGIN:VEVENT
DTSTART;VALUE=DATE:20250926
DTEND;VALUE=DATE:20250928
DTSTAMP:20260422T043223
CREATED:20250208T002139Z
LAST-MODIFIED:20250208T002609Z
UID:10000015-1758844800-1759017599@tlca.org
SUMMARY:Cruisin’ the Woods
DESCRIPTION:31st Annual Event\nHosted by: Cascade Cruisers \nCascade Cruisers hosts a two-day event in the beautiful Tillamook State Forest (TSF)\, with proceeds benefiting select charities. \nFriday: Guided trail runs of varying difficulty\, for everyone with stock rigs to built rock crawlers. \nSaturday: Poker Run. Follow obscure directions that lead drivers through the TSF and its OHV trails with checkpoints that challenge driving skills and educate on off-roading knowledge and safety. \nSaturday night: Prizes for Poker Run winners\, followed by cookout-style dinner provided by the club along with a raffle\, activities and family-friendly fun atmosphere.
URL:https://tlca.org/calendar/cruisin-the-woods/
LOCATION:MO
END:VEVENT
BEGIN:VEVENT
DTSTART;VALUE=DATE:20250926
DTEND;VALUE=DATE:20250929
DTSTAMP:20260422T043223
CREATED:20250916T020043Z
LAST-MODIFIED:20250916T020043Z
UID:10000017-1758844800-1759103999@tlca.org
SUMMARY:Kessler Krawl
DESCRIPTION:We are excited to invite you and host the 20th Annual Kessler Krawl on September 26-28th. This family-friendly gathering will be held at SMORR and should be a great event with trails for all skill levels. \nEvent Highlights: \n\nTrails for all skill levels:Whether you’re a beginner or an experienced drivers\, SMORR has trails for suited for every skill level. These are well marked and we will typically break off into a few groups to tour the park.\n\nMaps – SMORR – https://www.smorr.net/maps/\n\n\nFamily Friendly Atmosphere: Bring the whole family! This is a family friendly event.\nRaffle Prizes: Don’t miss your chance to win some fantastic raffle prizes.\nGroup Meal: We will be sponsoring a group meal one of the evenings\n\nEvent Details: \n\nDate: September 26-28th\nLocation: Seymour Missouri Off-Road Ranch (SMORR)\n\n5722 State Highway K\, Seymour\, MO 65746\n\n\nRegistration: Tornado Alley Cruisers\n\n  \nWe look forward to seeing you there for a weekend full of good times and great wheeling.
URL:https://tlca.org/calendar/kessler-krawl/
LOCATION:Southern Missouri Off Road Ranch\, 5722 State Highway K\, Seymour\, MO\, 65746\, United States
ATTACH;FMTTYPE=image/jpeg:https://tlca.org/wp-content/uploads/kessler-krawl.jpg
END:VEVENT
END:VCALENDAR