BEGIN:VCALENDAR
VERSION:2.0
PRODID:-//TLCA - ECPv6.15.20//NONSGML v1.0//EN
CALSCALE:GREGORIAN
METHOD:PUBLISH
X-ORIGINAL-URL:https://tlca.org
X-WR-CALDESC:Events for TLCA
REFRESH-INTERVAL;VALUE=DURATION:PT1H
X-Robots-Tag:noindex
X-PUBLISHED-TTL:PT1H
BEGIN:VTIMEZONE
TZID:America/Denver
BEGIN:DAYLIGHT
TZOFFSETFROM:-0700
TZOFFSETTO:-0600
TZNAME:MDT
DTSTART:20240310T090000
END:DAYLIGHT
BEGIN:STANDARD
TZOFFSETFROM:-0600
TZOFFSETTO:-0700
TZNAME:MST
DTSTART:20241103T080000
END:STANDARD
BEGIN:DAYLIGHT
TZOFFSETFROM:-0700
TZOFFSETTO:-0600
TZNAME:MDT
DTSTART:20250309T090000
END:DAYLIGHT
BEGIN:STANDARD
TZOFFSETFROM:-0600
TZOFFSETTO:-0700
TZNAME:MST
DTSTART:20251102T080000
END:STANDARD
BEGIN:DAYLIGHT
TZOFFSETFROM:-0700
TZOFFSETTO:-0600
TZNAME:MDT
DTSTART:20260308T090000
END:DAYLIGHT
BEGIN:STANDARD
TZOFFSETFROM:-0600
TZOFFSETTO:-0700
TZNAME:MST
DTSTART:20261101T080000
END:STANDARD
END:VTIMEZONE
BEGIN:VEVENT
DTSTART;VALUE=DATE:20250712
DTEND;VALUE=DATE:20250713
DTSTAMP:20260422T112142
CREATED:20250103T140758Z
LAST-MODIFIED:20250103T164241Z
UID:10000005-1752278400-1752364799@tlca.org
SUMMARY:Pacific Mountain Cruisers Swap Meet and Truck Show
DESCRIPTION:27th Annual Event\nHosted by: Pacific Mountain Cruisers \nJoin us for the Pacific Mountain Cruisers Swap Meet! Explore a treasure trove of Land Cruiser parts and gear while connecting with friends. \nDon’t miss the exciting raffle\, with proceeds benefiting #LiveLikeLash – The Live Like Lash Fund. \nSellers get in free\, so bring your goods to share or come ready to shop and support a great cause!
URL:https://tlca.org/calendar/pacific-mountain-cruisers-swap-meet-and-truck-show/
LOCATION:Holy Ghost Hall\, 4649 Bodega Ave\, Petaluma\, CA\, 94954\, United States
ATTACH;FMTTYPE=image/jpeg:https://tlca.org/wp-content/uploads/pmc-1.jpg
END:VEVENT
BEGIN:VEVENT
DTSTART;VALUE=DATE:20250716
DTEND;VALUE=DATE:20250721
DTSTAMP:20260422T112142
CREATED:20250107T140818Z
LAST-MODIFIED:20250107T141422Z
UID:10000009-1752624000-1753055999@tlca.org
SUMMARY:Black Hills Cruiser Classic
DESCRIPTION:28th Annual Event\nHosted by: Dakota Territory Cruisers \nJoin the Black Hills Cruiser Classic\, a fun annual event hosted by the Dakota Cruisers in the beautiful Black Hills of South Dakota. This gathering brings Toyota Land Cruiser enthusiasts together for a weekend filled with trail rides\, camaraderie\, and adventure. Whether you’re tackling scenic trails or connecting with fellow off-roaders\, it’s an experience you won’t want to miss! \nRegistrations Opens April 1\, 2025. \nOptional 3-day overnight leaving Monday\, July 1 \n \n 
URL:https://tlca.org/calendar/black-hills-cruiser-classic/
LOCATION:Hidden Valley Campground\, 21423 US-385\, Deadwood\, SD\, 57732\, United States
ATTACH;FMTTYPE=image/jpeg:https://tlca.org/wp-content/uploads/black-hills.jpg
END:VEVENT
BEGIN:VEVENT
DTSTART;VALUE=DATE:20250717
DTEND;VALUE=DATE:20250721
DTSTAMP:20260422T112142
CREATED:20250111T190456Z
LAST-MODIFIED:20250111T190456Z
UID:10000012-1752710400-1753055999@tlca.org
SUMMARY:Kentucky Toyota Trail Ride
DESCRIPTION:8th Annual Event\nHosted by: Kentucky Toyota Land Cruiser Association \nThe Kentucky Toyota Trail Ride (KTTR) is Kentucky’s only TLCA event and boasts attendees from many states. The Red River Gorge area is home to some of the most diverse landscape and beautiful trails found anywhere on the east coast. With a mix of sand\, mud\, rock and boulders\, there are trails to accomodate everything from stock vehicles to purpose built crawlers.
URL:https://tlca.org/calendar/kentucky-toyota-trail-ride/
LOCATION:Callies Lake And Campground in Red River Gorge\, 5515 Campton Rd\, Stanton\, KY\, 40380\, United States
ATTACH;FMTTYPE=image/jpeg:https://tlca.org/wp-content/uploads/kentucky-1.jpg
END:VEVENT
END:VCALENDAR