BEGIN:VCALENDAR
VERSION:2.0
PRODID:-//TLCA - ECPv6.15.20//NONSGML v1.0//EN
CALSCALE:GREGORIAN
METHOD:PUBLISH
X-ORIGINAL-URL:https://tlca.org
X-WR-CALDESC:Events for TLCA
REFRESH-INTERVAL;VALUE=DURATION:PT1H
X-Robots-Tag:noindex
X-PUBLISHED-TTL:PT1H
BEGIN:VTIMEZONE
TZID:America/Denver
BEGIN:DAYLIGHT
TZOFFSETFROM:-0700
TZOFFSETTO:-0600
TZNAME:MDT
DTSTART:20240310T090000
END:DAYLIGHT
BEGIN:STANDARD
TZOFFSETFROM:-0600
TZOFFSETTO:-0700
TZNAME:MST
DTSTART:20241103T080000
END:STANDARD
BEGIN:DAYLIGHT
TZOFFSETFROM:-0700
TZOFFSETTO:-0600
TZNAME:MDT
DTSTART:20250309T090000
END:DAYLIGHT
BEGIN:STANDARD
TZOFFSETFROM:-0600
TZOFFSETTO:-0700
TZNAME:MST
DTSTART:20251102T080000
END:STANDARD
BEGIN:DAYLIGHT
TZOFFSETFROM:-0700
TZOFFSETTO:-0600
TZNAME:MDT
DTSTART:20260308T090000
END:DAYLIGHT
BEGIN:STANDARD
TZOFFSETFROM:-0600
TZOFFSETTO:-0700
TZNAME:MST
DTSTART:20261101T080000
END:STANDARD
END:VTIMEZONE
BEGIN:VEVENT
DTSTART;VALUE=DATE:20250501
DTEND;VALUE=DATE:20250505
DTSTAMP:20260422T144918
CREATED:20250111T185604Z
LAST-MODIFIED:20250111T190206Z
UID:10000011-1746057600-1746403199@tlca.org
SUMMARY:Toyota Jamboree
DESCRIPTION:10th Annual Event\nHosted by: Toyota Trail Riders \nThe Lone Star Toyota Jamboree is one of the largest gatherings of Toyota off-road enthusiast and vendors held in the Texas area. Vehicles range from Land Cruisers of all types\, Tacomas\, FJ Cruisers\, 4Runners and Tundras as well as a variety of other Toyota off-road vehicles. This non-profit\, Toyota Land Cruisers Association (TLCA) sanctioned event is organized by the Toyota Trail Riders for the purpose of raising funds for Barnwell Mountain Recreation Area (BMRA) in Gilmer\, Texas and Women Rock.
URL:https://tlca.org/calendar/toyota-jamboree/
LOCATION:Barnwell Mountain Recreational Area\, 6284 State Hwy 155\, Gilmer\, TX\, 75644\, United States
ATTACH;FMTTYPE=image/jpeg:https://tlca.org/wp-content/uploads/jamboree-1.jpg
END:VEVENT
BEGIN:VEVENT
DTSTART;VALUE=DATE:20250517
DTEND;VALUE=DATE:20250518
DTSTAMP:20260422T144918
CREATED:20250111T191020Z
LAST-MODIFIED:20250111T191149Z
UID:10000013-1747440000-1747526399@tlca.org
SUMMARY:ColoYota Expo
DESCRIPTION:3rd Annual Event\nHosted by: Rising Sun 4 Wheel Drive Club of Colorado \nColoYota Expo is your home town\, homegrown overland vendor expo\, swap meet\, car show\, and meet & greet\, open to all owners of any Toyota or Lexus 4×4. Hosted by the Rising Sun 4×4 Club of Colorado\, the largest chapter of the Toyota Land Cruiser Association\, the ColoYota Expo is the place you want to be\, the people you want to know\, and the vendors and organizations you want to be a part of\, as you enjoy Colorado’s public lands from your Toyota & Lexus 4×4.
URL:https://tlca.org/calendar/coloyota-expo/
LOCATION:Jeffco Fairgrounds\, 15200 W 6th Ave\, Golden\, CO\, 80401\, United States
ATTACH;FMTTYPE=image/jpeg:https://tlca.org/wp-content/uploads/2013RallyPan1lowrez.jpg
END:VEVENT
BEGIN:VEVENT
DTSTART;VALUE=DATE:20250529
DTEND;VALUE=DATE:20250602
DTSTAMP:20260422T144918
CREATED:20250102T145255Z
LAST-MODIFIED:20250103T212931Z
UID:10000001-1748476800-1748822399@tlca.org
SUMMARY:Razorback Ramble
DESCRIPTION:26th Annual Event\nHosted by: Razorback Land Cruisers \nThe Razorback Ramble is an annual event organized by the Razorback Land Cruisers\, the Arkansas chapter of the Toyota Land Cruiser Association. The event will take place at the Hot Springs Off-Road Vehicle Park in Hot Springs\, Arkansas. \nParticipants receive an event swag bag\, t-shirt\, meal tickets for Friday and Saturday night dinners\, and one driver raffle ticket. Upon arrival\, attendees are required to check in at the park’s office to settle any additional park dues and camping fees. The park features miles of well-marked and maintained trails suitable for both novice and experienced off-road enthusiasts. Evening gatherings at the pavilion on Friday and Saturday include meals and raffles with prizes tailored for Toyota vehicles. \nLocated near Hot Springs National Park and several lakes\, the area offers additional recreational opportunities. Limited camping and RV sites are available at the park\, with additional accommodations nearby\, including a KOA Campground and various hotels. \nThe Razorback Ramble is a Toyota-only event\, welcoming all 4WD Toyota vehicles\, including Land Cruisers\, 4Runners\, Tacomas\, and FJ Cruisers. The event aims to provide adventure\, education\, and social opportunities for members\, fostering a community based on a shared passion for Toyota 4WD vehicles. \nParticipants are encouraged to explore the scenic attractions of Hot Springs\, such as the historic downtown and Bath House Row\, during their visit. The event also emphasizes the preservation and promotion of multiple-use public lands\, aligning with the club’s goals. \nRegistration details and additional information are available on the Razorback Land Cruisers’ official website. Prospective attendees are advised to register early and review park fees and accommodation options in advance. \n 
URL:https://tlca.org/calendar/razorback-ramble/
LOCATION:Hot Springs Off-Road Park\, 2100 Mill Creek Road\, Hot Springs\, AR\, 71907\, United States
ATTACH;FMTTYPE=image/jpeg:https://tlca.org/wp-content/uploads/ramble-featured.jpg
END:VEVENT
END:VCALENDAR