BEGIN:VCALENDAR
VERSION:2.0
PRODID:-//TLCA - ECPv6.15.20//NONSGML v1.0//EN
CALSCALE:GREGORIAN
METHOD:PUBLISH
X-ORIGINAL-URL:https://tlca.org
X-WR-CALDESC:Events for TLCA
REFRESH-INTERVAL;VALUE=DURATION:PT1H
X-Robots-Tag:noindex
X-PUBLISHED-TTL:PT1H
BEGIN:VTIMEZONE
TZID:America/Denver
BEGIN:DAYLIGHT
TZOFFSETFROM:-0700
TZOFFSETTO:-0600
TZNAME:MDT
DTSTART:20250309T090000
END:DAYLIGHT
BEGIN:STANDARD
TZOFFSETFROM:-0600
TZOFFSETTO:-0700
TZNAME:MST
DTSTART:20251102T080000
END:STANDARD
BEGIN:DAYLIGHT
TZOFFSETFROM:-0700
TZOFFSETTO:-0600
TZNAME:MDT
DTSTART:20260308T090000
END:DAYLIGHT
BEGIN:STANDARD
TZOFFSETFROM:-0600
TZOFFSETTO:-0700
TZNAME:MST
DTSTART:20261101T080000
END:STANDARD
BEGIN:DAYLIGHT
TZOFFSETFROM:-0700
TZOFFSETTO:-0600
TZNAME:MDT
DTSTART:20270314T090000
END:DAYLIGHT
BEGIN:STANDARD
TZOFFSETFROM:-0600
TZOFFSETTO:-0700
TZNAME:MST
DTSTART:20271107T080000
END:STANDARD
END:VTIMEZONE
BEGIN:VEVENT
DTSTART;VALUE=DATE:20260925
DTEND;VALUE=DATE:20260928
DTSTAMP:20260422T093254
CREATED:20260202T142506Z
LAST-MODIFIED:20260202T142506Z
UID:10000031-1790294400-1790553599@tlca.org
SUMMARY:Cruisin’ the Woods 2026
DESCRIPTION:Cascade Cruisers hosts a two-day event in the beautiful Tillamook State Forest (TSF)\, with proceeds benefiting select charities. \nFriday: Guided trail runs of varying difficulty\, for everyone with stock rigs to built rock crawlers. \nSaturday: Poker Run. Follow obscure directions that lead drivers through the TSF and its OHV trails with checkpoints that challenge driving skills and educate on off-roading knowledge and safety. \nSaturday night: Prizes for Poker Run winners\, followed by cookout-style dinner provided by the club along with a raffle\, activities and family-friendly fun atmosphere. \nBrowns Camp\, Tillamook State Forest\nScoggins Creek Road\nGales Creek OR 97117 \nCoordinates: 45.610576\,-123.349003
URL:https://tlca.org/calendar/cruisin-the-woods-2026/
LOCATION:Browns Camp\, Tillamook State Forest\, Scoggins Creek Road\, Gales Creek\, OR\, 97117\, United States
END:VEVENT
BEGIN:VEVENT
DTSTART;VALUE=DATE:20261008
DTEND;VALUE=DATE:20261012
DTSTAMP:20260422T093254
CREATED:20251106T013956Z
LAST-MODIFIED:20251106T014125Z
UID:10000024-1791417600-1791763199@tlca.org
SUMMARY:Southern Cruiser Crawl
DESCRIPTION:21st Annual Event\nHosted by: CottonLand Cruisers \nGear up for an unforgettable adventure at the CottonLand Cruiser’s Annual Off-Road Event! This gathering celebrates the TLCA community with trail rides\, camaraderie\, and a shared love for off-road exploration. Whether you’re navigating challenging terrain or just enjoying the stunning scenery\, there’s something for everyone. \nA highlight of the event is the awarding of the prestigious Live Like Lash scholarships. These scholarships honor the legacy of Lash Lacoste and recognize young individuals who embody his passion for adventure\, resilience\, and community spirit. \nDon’t miss the opportunity to connect with fellow enthusiasts and make lasting memories.
URL:https://tlca.org/calendar/southern-cruiser-crawl-2/
LOCATION:Hot Springs Off-Road Park\, 2100 Mill Creek Road\, Hot Springs\, AR\, 71907\, United States
ATTACH;FMTTYPE=image/jpeg:https://tlca.org/wp-content/uploads/southern-cruiser-crawl-event.jpg
END:VEVENT
BEGIN:VEVENT
DTSTART;VALUE=DATE:20261023
DTEND;VALUE=DATE:20261026
DTSTAMP:20260422T093254
CREATED:20260217T035122Z
LAST-MODIFIED:20260217T035122Z
UID:10000032-1792713600-1792972799@tlca.org
SUMMARY:Fall Crawl
DESCRIPTION:Get your Land Cruiser or Toyota/Lexus 4×4 ready for the wheeling event of the year! \nRegistration opens on August 18\, 2026.
URL:https://tlca.org/calendar/fall-crawl/
LOCATION:Cove Campground\, 980 Cove Road\, Gore\, VA\, United States
ATTACH;FMTTYPE=image/jpeg:https://tlca.org/wp-content/uploads/2026-FALL-CRAWL-FLYER-for-TLCA-scaled.jpeg
END:VEVENT
END:VCALENDAR