BEGIN:VCALENDAR
VERSION:2.0
PRODID:-//TLCA - ECPv6.15.20//NONSGML v1.0//EN
CALSCALE:GREGORIAN
METHOD:PUBLISH
X-WR-CALNAME:TLCA
X-ORIGINAL-URL:https://tlca.org
X-WR-CALDESC:Events for TLCA
REFRESH-INTERVAL;VALUE=DURATION:PT1H
X-Robots-Tag:noindex
X-PUBLISHED-TTL:PT1H
BEGIN:VTIMEZONE
TZID:America/Denver
BEGIN:DAYLIGHT
TZOFFSETFROM:-0700
TZOFFSETTO:-0600
TZNAME:MDT
DTSTART:20240310T090000
END:DAYLIGHT
BEGIN:STANDARD
TZOFFSETFROM:-0600
TZOFFSETTO:-0700
TZNAME:MST
DTSTART:20241103T080000
END:STANDARD
BEGIN:DAYLIGHT
TZOFFSETFROM:-0700
TZOFFSETTO:-0600
TZNAME:MDT
DTSTART:20250309T090000
END:DAYLIGHT
BEGIN:STANDARD
TZOFFSETFROM:-0600
TZOFFSETTO:-0700
TZNAME:MST
DTSTART:20251102T080000
END:STANDARD
BEGIN:DAYLIGHT
TZOFFSETFROM:-0700
TZOFFSETTO:-0600
TZNAME:MDT
DTSTART:20260308T090000
END:DAYLIGHT
BEGIN:STANDARD
TZOFFSETFROM:-0600
TZOFFSETTO:-0700
TZNAME:MST
DTSTART:20261101T080000
END:STANDARD
END:VTIMEZONE
BEGIN:VEVENT
DTSTART;VALUE=DATE:20250409
DTEND;VALUE=DATE:20250414
DTSTAMP:20260421T231457
CREATED:20250102T144659Z
LAST-MODIFIED:20250102T181619Z
UID:10000002-1744156800-1744588799@tlca.org
SUMMARY:Carolina Relic Run
DESCRIPTION:10th Annual Event\nHosted by: Olde North State Cruisers \nThe Carolina Relic Run was conceived and created to gather and admire vintage Toyota Land Cruisers\, AKA “Relics”.\nWith a weekend of picturesque North Carolina Mountain camping\, Uwharrie trail riding\, great food\, live bluegrass music\, raffle prizes\, a relic car show\, and a family friendly atmosphere you’ll be sure to have a great time! We invite owners of all Toyota 4 Wheel Drive vehicles of any year to be part of the weekend of fun. For the owners of relics\, there will be a relic specific car show and varying difficulty of group runs coordinated for like-minded drivers and their vehicles with build dates of 1990 and prior. \nThe event is organized by the Olde North State Cruisers\, a not-for-profit chapter of the Toyota Land Cruiser Association (TLCA). Uwharrie National Forest is approximately 51\,000 acres in size and offers outdoor activities including hiking\, horseback riding\, mountain biking\, fishing\, swimming\, boating and approximately 20 miles of trails designated for off-roading.
URL:https://tlca.org/calendar/carolina-relic-run/
LOCATION:Riverbend Campground\, 200-216 Mullinex Road\, Troy\, NC\, United States
ATTACH;FMTTYPE=image/jpeg:https://tlca.org/wp-content/uploads/crr-featured-scaled.jpg
END:VEVENT
BEGIN:VEVENT
DTSTART;VALUE=DATE:20250313
DTEND;VALUE=DATE:20250317
DTSTAMP:20260421T231457
CREATED:20250102T141554Z
LAST-MODIFIED:20250103T212349Z
UID:10000004-1741824000-1742169599@tlca.org
SUMMARY:Lone Star Land Cruiser Round Up
DESCRIPTION:22nd Annual Event\nHosted by: Lone Star Land Cruisers \nThis TLCA sanctioned event has grown to legendary status over the years. We have 125-160 trucks a year attend this event with people traveling from across the country\, as far away as the East and West Coast. We hope you come and join us this year. \nIn addition to the use of the park for off-roading and rock crawling\, we are planning an expedition run through beautiful Mason County for those who prefer not to wheel their trucks too hard. \nRegistration includes 3 days of the best wheeling in Texas\, 1 event t-shirt\, 1 driver raffle ticket\, and 1 Saturday night meal ticket. \nStay connected with up-to-date events details at:\nClub Forum on ih8mud.com \nFacebook
URL:https://tlca.org/calendar/lone-star-land-cruiser-round-up/
LOCATION:Katemcy Rocks\, 4869 TX-29\, Mason\, TX\, 76856\, United States
ATTACH;FMTTYPE=image/jpeg:https://tlca.org/wp-content/uploads/round-up-featured.jpg
END:VEVENT
END:VCALENDAR